BEGIN:VCALENDAR
VERSION:2.0
PRODID:Imitheme.com 
BEGIN:VEVENT
UID:20260424T1011171495118151
DTSTAMP;TZID=UTC:2026-04-24 10:11:17
DTSTART;TZID=America/Los_Angeles:20260424T101117
DTEND;TZID=America/Los_Angeles:20260424T101117
SUMMARY:CORSO DI FORMAZIONE ChatGPT per la tua azienda
LOCATION:Modalità FAD
DESCRIPTION:L’INTELLIGENZA ARTIFICIALE PER IL TUO BUSINESS
URL:https://www.conforma.basilicata.it/eventer/corso-di-formazione-chatgpt-per-la-tua-azienda/
END:VEVENT
END:VCALENDAR
