BEGIN:VCALENDAR
VERSION:2.0
PRODID:Imitheme.com 
BEGIN:VEVENT
UID:20260424T154657315488367
DTSTAMP;TZID=UTC:2026-04-24 15:46:57
DTSTART;TZID=America/Los_Angeles:20260424T154657
DTEND;TZID=America/Los_Angeles:20260424T154657
SUMMARY:CORSO DI FORMAZIONE ADDETTI PRIMO SOCCORSO
LOCATION:CONFORMA\, Via Domenico di Giura\, Potenza\, PZ\, Basilicata
DESCRIPTION:  CALENDARIO ATTIVITÀ: CLICCA QUI ISCRIZIONE:  CLICCA QUI MODALITÀ CORSO:  in presenza presso la nostra sede di Potenza, Via Di Giura - Centro Direzionale ALLERTARE IL SISTEMA DI SOCCORSO - Cause e circostanze dell’infortunio - Comunicare le predette informazioni in maniera chiara e precisa ai servizi di assistenza sanitaria di emergenza RICONOSCERE UN’EMERGENZA SANITARIA - Scena dell’infortunio - Accertamento delle condizioni psico-fisiche del lavoratore infortunato - Nozioni elementari di anatomia e fisiologia dell’apparato cardiovascolare e respiratorio - Tecniche di auto protezione del personale addetto al soccorso ATTUARE GLI INTERVENTI DI PRIMO SOCCORSO - Sostenimento delle funzioni vitali - Riconoscimento e limiti d’intervento di primo soccorso ACQUISIRE CONOSCENZE GENERALI SUI TRAUMI IN AMBIENTE DI LAVORO - Cenni di anatomia dello scheletro - Lussazioni, fratture e complicanza - Traumi e lesioni cranio-encefalici, toraco-addominali e della colonna vertebrale ACQUISIRE CONOSCENZE GENERALI SULLE PATOLOGIE SPECIFICHE IN AMBIENTE DI LAVORO - Intossicazioni, lesioni da freddo e da calore, corrente elettrica, da agenti chimici - Ferite lacero contuse, emorragie esterne CAPACITÀ DI INTERVENTO PRATICO - Principali tecniche di comunicazione con il sistema di emergenza del S.S.N. - Principali tecniche di primo soccorso nelle sindromi cerebrali acute - Principali tecniche di primo soccorso nella sindrome respiratoria acuta - Principali tecniche di rianimazione cardiopolmonare - Principali tecniche di tamponamento emorragico - Principali tecniche di sollevamento, spontaneo e trasporto del traumatizzato - Principali tecniche di primo soccorso in caso di esposizione accidentale ad agenti chimici e biologici   ATTESTATI DI FREQUENZA:  per ogni partecipante che avrà completato il 100 % delle ore di formazione previste  verrà rilasciato un attestato di frequenza con verifica dell’apprendimento. L\'iscrizione risulterà formalizzata mediante l\'invio del modulo di adesione debitamente compilato. Per ulteriori informazioni è possibile contattare: Dott. Antonio Avigliano mail: a.avigliano@conforma.basilicata.it
URL:https://www.conforma.basilicata.it/eventer/corso-di-formazione-addetti-primo-soccorso-11/
END:VEVENT
END:VCALENDAR
