BEGIN:VCALENDAR
VERSION:2.0
PRODID:Imitheme.com 
BEGIN:VEVENT
UID:20260424T071122652691444
DTSTAMP;TZID=UTC:2026-04-24 07:11:22
DTSTART;TZID=America/Los_Angeles:20260424T071122
DTEND;TZID=America/Los_Angeles:20260424T071122
SUMMARY:CORSO DI AGGIORNAMENTO RSPP/ASPP
LOCATION:Modalità FAD
DESCRIPTION:SISTEMI DI GESTIONE PER LA SICUREZZA
URL:https://www.conforma.basilicata.it/eventer/corso-di-aggiornamento-rspp-aspp-7/
END:VEVENT
END:VCALENDAR
